Package: phenopath Version: 1.33.0 Command: /Library/Frameworks/R.framework/Resources/bin/R CMD build --keep-empty-dirs --no-resave-data phenopath StartedAt: 2025-07-04 17:11:32 -0400 (Fri, 04 Jul 2025) EndedAt: 2025-07-04 17:11:52 -0400 (Fri, 04 Jul 2025) EllapsedTime: 19.2 seconds RetCode: 0 Status: OK PackageFile: phenopath_1.33.0.tar.gz PackageFileSize: 1.307 MiB