Package: phenopath Version: 1.33.0 Command: rm -rf phenopath.buildbin-libdir && mkdir phenopath.buildbin-libdir && /Users/biocbuild/BBS/utils/build-universal.sh phenopath_1.33.0.tar.gz /Library/Frameworks/R.framework/Resources/bin/R phenopath.buildbin-libdir StartedAt: 2025-07-04 22:28:40 -0400 (Fri, 04 Jul 2025) EndedAt: 2025-07-04 22:28:53 -0400 (Fri, 04 Jul 2025) EllapsedTime: 13.3 seconds RetCode: 0 Status: OK PackageFile: phenopath_1.33.0.tgz PackageFileSize: 1.024 MiB