Package: phenomis Version: 1.11.0 Command: F:\biocbuild\bbs-3.22-bioc\R\bin\R.exe CMD check --no-multiarch --install=check:phenomis.install-out.txt --library=F:\biocbuild\bbs-3.22-bioc\R\library --no-vignettes --timings phenomis_1.11.0.tar.gz StartedAt: 2025-07-12 04:59:44 -0400 (Sat, 12 Jul 2025) EndedAt: 2025-07-12 05:06:26 -0400 (Sat, 12 Jul 2025) EllapsedTime: 401.7 seconds RetCode: 0 Status: OK CheckDir: phenomis.Rcheck Warnings: 0