Package: phenoTest Version: 1.57.0 Command: /home/biocbuild/R/R/bin/R CMD build --keep-empty-dirs --no-resave-data phenoTest StartedAt: 2025-07-18 02:01:28 -0000 (Fri, 18 Jul 2025) EndedAt: 2025-07-18 02:02:37 -0000 (Fri, 18 Jul 2025) EllapsedTime: 69.1 seconds RetCode: 0 Status: OK PackageFile: phenoTest_1.57.0.tar.gz PackageFileSize: 1.265 MiB