Package: phenoTest Version: 1.57.0 Command: F:\biocbuild\bbs-3.22-bioc\R\bin\R.exe CMD INSTALL phenoTest StartedAt: 2025-07-24 16:27:41 -0400 (Thu, 24 Jul 2025) EndedAt: 2025-07-24 16:28:47 -0400 (Thu, 24 Jul 2025) EllapsedTime: 65.3 seconds RetCode: 0 Status: OK