Package: phenoTest Version: 1.57.0 Command: chmod a+r phenoTest -R && F:\biocbuild\bbs-3.22-bioc\R\bin\R.exe CMD build --keep-empty-dirs --no-resave-data phenoTest StartedAt: 2025-07-24 21:23:18 -0400 (Thu, 24 Jul 2025) EndedAt: 2025-07-24 21:24:47 -0400 (Thu, 24 Jul 2025) EllapsedTime: 89.5 seconds RetCode: 0 Status: OK PackageFile: phenoTest_1.57.0.tar.gz PackageFileSize: 1.098 MiB