Package: phenoTest Version: 1.57.0 Command: rm -rf phenoTest.buildbin-libdir && mkdir phenoTest.buildbin-libdir && F:\biocbuild\bbs-3.22-bioc\R\bin\R.exe CMD INSTALL --build --library=phenoTest.buildbin-libdir phenoTest_1.57.0.tar.gz StartedAt: 2025-07-25 09:55:24 -0400 (Fri, 25 Jul 2025) EndedAt: 2025-07-25 09:57:07 -0400 (Fri, 25 Jul 2025) EllapsedTime: 103.1 seconds RetCode: 0 Status: OK PackageFile: phenoTest_1.57.0.zip PackageFileSize: 1.722 MiB