Package: phenoTest Version: 1.57.0 Command: rm -rf phenoTest.buildbin-libdir && mkdir phenoTest.buildbin-libdir && /Users/biocbuild/BBS/utils/build-universal.sh phenoTest_1.57.0.tar.gz /Library/Frameworks/R.framework/Resources/bin/R phenoTest.buildbin-libdir StartedAt: 2025-07-14 01:12:12 -0400 (Mon, 14 Jul 2025) EndedAt: 2025-07-14 01:13:02 -0400 (Mon, 14 Jul 2025) EllapsedTime: 49.9 seconds RetCode: 0 Status: OK PackageFile: phenoTest_1.57.0.tgz PackageFileSize: 1.892 MiB