Package: phenoTest Version: 1.57.0 Command: /Library/Frameworks/R.framework/Resources/bin/R CMD INSTALL phenoTest StartedAt: 2025-07-16 15:09:45 -0400 (Wed, 16 Jul 2025) EndedAt: 2025-07-16 15:09:57 -0400 (Wed, 16 Jul 2025) EllapsedTime: 12.1 seconds RetCode: 0 Status: OK