Package: phantasusLite Version: 1.7.0 Command: /home/biocbuild/R/R/bin/R CMD check --install=check:phantasusLite.install-out.txt --library=/home/biocbuild/R/R/site-library --no-vignettes --timings phantasusLite_1.7.0.tar.gz StartedAt: 2025-07-11 11:01:15 -0000 (Fri, 11 Jul 2025) EndedAt: 2025-07-11 11:06:09 -0000 (Fri, 11 Jul 2025) EllapsedTime: 293.4 seconds RetCode: 1 Status: ERROR CheckDir: phantasusLite.Rcheck Warnings: NA