Package: phantasusLite Version: 1.7.0 Command: /Library/Frameworks/R.framework/Resources/bin/R CMD INSTALL phantasusLite StartedAt: 2025-10-03 15:31:11 -0400 (Fri, 03 Oct 2025) EndedAt: 2025-10-03 15:31:18 -0400 (Fri, 03 Oct 2025) EllapsedTime: 7.4 seconds RetCode: 0 Status: OK