Package: phantasus Version: 1.29.0 Command: F:\biocbuild\bbs-3.22-bioc\R\bin\R.exe CMD check --no-multiarch --install=check:phantasus.install-out.txt --library=F:\biocbuild\bbs-3.22-bioc\R\library --no-vignettes --timings phantasus_1.29.0.tar.gz StartedAt: 2025-08-15 06:21:18 -0400 (Fri, 15 Aug 2025) EndedAt: 2025-08-15 06:28:08 -0400 (Fri, 15 Aug 2025) EllapsedTime: 410.1 seconds RetCode: 1 Status: ERROR CheckDir: phantasus.Rcheck Warnings: NA