Package: phantasus Version: 1.29.0 Command: rm -rf phantasus.buildbin-libdir && mkdir phantasus.buildbin-libdir && F:\biocbuild\bbs-3.22-bioc\R\bin\R.exe CMD INSTALL --build --library=phantasus.buildbin-libdir phantasus_1.29.0.tar.gz StartedAt: 2025-08-15 10:56:47 -0400 (Fri, 15 Aug 2025) EndedAt: 2025-08-15 10:58:22 -0400 (Fri, 15 Aug 2025) EllapsedTime: 95.1 seconds RetCode: 0 Status: OK PackageFile: phantasus_1.29.0.zip PackageFileSize: 8.318 MiB