Package: pgxRpi Version: 1.5.4 Command: F:\biocbuild\bbs-3.22-bioc\R\bin\R.exe CMD check --no-multiarch --install=check:pgxRpi.install-out.txt --library=F:\biocbuild\bbs-3.22-bioc\R\library --no-vignettes --timings pgxRpi_1.5.4.tar.gz StartedAt: 2025-07-08 05:02:14 -0400 (Tue, 08 Jul 2025) EndedAt: 2025-07-08 05:10:58 -0400 (Tue, 08 Jul 2025) EllapsedTime: 524.0 seconds RetCode: 0 Status: OK CheckDir: pgxRpi.Rcheck Warnings: 0