Package: pgxRpi Version: 1.5.4 Command: chmod a+r pgxRpi -R && F:\biocbuild\bbs-3.22-bioc\R\bin\R.exe CMD build --keep-empty-dirs --no-resave-data pgxRpi StartedAt: 2025-07-07 21:07:24 -0400 (Mon, 07 Jul 2025) EndedAt: 2025-07-07 21:19:01 -0400 (Mon, 07 Jul 2025) EllapsedTime: 696.7 seconds RetCode: 0 Status: OK PackageFile: pgxRpi_1.5.4.tar.gz PackageFileSize: 1.217 MiB