Package: pgxRpi Version: 1.5.4 Command: rm -rf pgxRpi.buildbin-libdir && mkdir pgxRpi.buildbin-libdir && F:\biocbuild\bbs-3.22-bioc\R\bin\R.exe CMD INSTALL --build --library=pgxRpi.buildbin-libdir pgxRpi_1.5.4.tar.gz StartedAt: 2025-07-08 09:34:28 -0400 (Tue, 08 Jul 2025) EndedAt: 2025-07-08 09:34:53 -0400 (Tue, 08 Jul 2025) EllapsedTime: 24.4 seconds RetCode: 0 Status: OK PackageFile: pgxRpi_1.5.4.zip PackageFileSize: 1.325 MiB