Package: pgxRpi Version: 1.5.4 Command: /home/biocbuild/bbs-3.22-bioc/R/bin/R CMD build --keep-empty-dirs --no-resave-data --md5 pgxRpi StartedAt: 2025-07-04 18:30:41 -0400 (Fri, 04 Jul 2025) EndedAt: 2025-07-04 18:37:26 -0400 (Fri, 04 Jul 2025) EllapsedTime: 405.5 seconds RetCode: 0 Status: OK PackageFile: pgxRpi_1.5.4.tar.gz PackageFileSize: 2.791 MiB