Package: pgca Version: 1.33.0 Command: /home/biocbuild/R/R/bin/R CMD build --keep-empty-dirs --no-resave-data pgca StartedAt: 2025-07-25 02:47:58 -0000 (Fri, 25 Jul 2025) EndedAt: 2025-07-25 02:48:04 -0000 (Fri, 25 Jul 2025) EllapsedTime: 6.0 seconds RetCode: 0 Status: OK PackageFile: pgca_1.33.0.tar.gz PackageFileSize: 217.4 KiB