Package: pgca Version: 1.33.0 Command: /Library/Frameworks/R.framework/Resources/bin/R CMD INSTALL pgca StartedAt: 2025-07-22 15:04:14 -0400 (Tue, 22 Jul 2025) EndedAt: 2025-07-22 15:04:29 -0400 (Tue, 22 Jul 2025) EllapsedTime: 14.8 seconds RetCode: 0 Status: OK