Package: pgca Version: 1.33.0 Command: /Library/Frameworks/R.framework/Resources/bin/R CMD check --install=check:pgca.install-out.txt --library=/Library/Frameworks/R.framework/Resources/library --no-vignettes --timings pgca_1.33.0.tar.gz StartedAt: 2025-07-22 22:45:51 -0400 (Tue, 22 Jul 2025) EndedAt: 2025-07-22 22:46:22 -0400 (Tue, 22 Jul 2025) EllapsedTime: 30.7 seconds RetCode: 0 Status: OK CheckDir: pgca.Rcheck Warnings: 0