Package: pgca Version: 1.33.0 Command: /Library/Frameworks/R.framework/Resources/bin/R CMD build --keep-empty-dirs --no-resave-data pgca StartedAt: 2025-07-22 17:56:35 -0400 (Tue, 22 Jul 2025) EndedAt: 2025-07-22 17:56:44 -0400 (Tue, 22 Jul 2025) EllapsedTime: 9.2 seconds RetCode: 0 Status: OK PackageFile: pgca_1.33.0.tar.gz PackageFileSize: 216.9 KiB