Package: pfamAnalyzeR Version: 1.9.0 Command: F:\biocbuild\bbs-3.22-bioc\R\bin\R.exe CMD INSTALL pfamAnalyzeR StartedAt: 2025-07-24 15:35:55 -0400 (Thu, 24 Jul 2025) EndedAt: 2025-07-24 15:36:14 -0400 (Thu, 24 Jul 2025) EllapsedTime: 18.9 seconds RetCode: 0 Status: OK