Package: pfamAnalyzeR Version: 1.9.0 Command: chmod a+r pfamAnalyzeR -R && F:\biocbuild\bbs-3.22-bioc\R\bin\R.exe CMD build --keep-empty-dirs --no-resave-data pfamAnalyzeR StartedAt: 2025-07-24 21:21:21 -0400 (Thu, 24 Jul 2025) EndedAt: 2025-07-24 21:21:36 -0400 (Thu, 24 Jul 2025) EllapsedTime: 15.0 seconds RetCode: 0 Status: OK PackageFile: pfamAnalyzeR_1.9.0.tar.gz PackageFileSize: 352 KiB