Package: periodicDNA Version: 1.19.1 Command: /home/biocbuild/R/R/bin/R CMD check --install=check:periodicDNA.install-out.txt --library=/home/biocbuild/R/R/site-library --no-vignettes --timings periodicDNA_1.19.1.tar.gz StartedAt: 2025-10-10 11:53:07 -0000 (Fri, 10 Oct 2025) EndedAt: 2025-10-10 11:53:12 -0000 (Fri, 10 Oct 2025) EllapsedTime: 5.0 seconds RetCode: 1 Status: ERROR CheckDir: periodicDNA.Rcheck Warnings: NA