Package: periodicDNA Version: 1.19.1 Command: /home/biocbuild/R/R/bin/R CMD build --keep-empty-dirs --no-resave-data periodicDNA StartedAt: 2025-10-07 01:52:28 -0000 (Tue, 07 Oct 2025) EndedAt: 2025-10-07 01:54:30 -0000 (Tue, 07 Oct 2025) EllapsedTime: 122.1 seconds RetCode: 0 Status: OK PackageFile: periodicDNA_1.19.1.tar.gz PackageFileSize: 2.893 MiB