Package: periodicDNA Version: 1.19.1 Command: rm -rf periodicDNA.buildbin-libdir && mkdir periodicDNA.buildbin-libdir && F:\biocbuild\bbs-3.22-bioc\R\bin\R.exe CMD INSTALL --build --library=periodicDNA.buildbin-libdir periodicDNA_1.19.1.tar.gz StartedAt: 2025-08-15 10:56:38 -0400 (Fri, 15 Aug 2025) EndedAt: 2025-08-15 10:57:32 -0400 (Fri, 15 Aug 2025) EllapsedTime: 54.4 seconds RetCode: 0 Status: OK PackageFile: periodicDNA_1.19.1.zip PackageFileSize: 2.961 MiB