Package: periodicDNA Version: 1.19.1 Command: /Library/Frameworks/R.framework/Resources/bin/R CMD INSTALL periodicDNA StartedAt: 2025-10-06 15:27:54 -0400 (Mon, 06 Oct 2025) EndedAt: 2025-10-06 15:28:44 -0400 (Mon, 06 Oct 2025) EllapsedTime: 49.3 seconds RetCode: 0 Status: OK