Package: periodicDNA Version: 1.19.1 Command: /Library/Frameworks/R.framework/Resources/bin/R CMD check --install=check:periodicDNA.install-out.txt --library=/Library/Frameworks/R.framework/Resources/library --no-vignettes --timings periodicDNA_1.19.1.tar.gz StartedAt: 2025-10-07 23:51:29 -0400 (Tue, 07 Oct 2025) EndedAt: 2025-10-07 23:58:18 -0400 (Tue, 07 Oct 2025) EllapsedTime: 408.4 seconds RetCode: 0 Status: WARNINGS CheckDir: periodicDNA.Rcheck Warnings: 1