Package: periodicDNA Version: 1.19.1 Command: /Library/Frameworks/R.framework/Resources/bin/R CMD build --keep-empty-dirs --no-resave-data periodicDNA StartedAt: 2025-10-06 18:28:19 -0400 (Mon, 06 Oct 2025) EndedAt: 2025-10-06 18:30:40 -0400 (Mon, 06 Oct 2025) EllapsedTime: 140.9 seconds RetCode: 0 Status: OK PackageFile: periodicDNA_1.19.1.tar.gz PackageFileSize: 2.961 MiB