Package: periodicDNA Version: 1.19.1 Command: rm -rf periodicDNA.buildbin-libdir && mkdir periodicDNA.buildbin-libdir && /Users/biocbuild/BBS/utils/build-universal.sh periodicDNA_1.19.1.tar.gz /Library/Frameworks/R.framework/Resources/bin/R periodicDNA.buildbin-libdir StartedAt: 2025-10-08 22:58:18 -0400 (Wed, 08 Oct 2025) EndedAt: 2025-10-08 22:58:34 -0400 (Wed, 08 Oct 2025) EllapsedTime: 16.4 seconds RetCode: 0 Status: OK PackageFile: periodicDNA_1.19.1.tgz PackageFileSize: 3.059 MiB