Package: pepStat Version: 1.43.0 Command: /home/biocbuild/R/R/bin/R CMD INSTALL pepStat StartedAt: 2025-07-14 20:28:40 -0000 (Mon, 14 Jul 2025) EndedAt: 2025-07-14 20:29:03 -0000 (Mon, 14 Jul 2025) EllapsedTime: 23.0 seconds RetCode: 0 Status: OK