Package: pepStat Version: 1.43.0 Command: /home/biocbuild/R/R/bin/R CMD check --install=check:pepStat.install-out.txt --library=/home/biocbuild/R/R/site-library --no-vignettes --timings pepStat_1.43.0.tar.gz StartedAt: 2025-07-15 10:30:06 -0000 (Tue, 15 Jul 2025) EndedAt: 2025-07-15 10:32:48 -0000 (Tue, 15 Jul 2025) EllapsedTime: 161.2 seconds RetCode: 0 Status: OK CheckDir: pepStat.Rcheck Warnings: 0