Package: pepStat Version: 1.43.0 Command: /home/biocbuild/R/R/bin/R CMD build --keep-empty-dirs --no-resave-data pepStat StartedAt: 2025-07-15 01:46:46 -0000 (Tue, 15 Jul 2025) EndedAt: 2025-07-15 01:47:56 -0000 (Tue, 15 Jul 2025) EllapsedTime: 70.1 seconds RetCode: 0 Status: OK PackageFile: pepStat_1.43.0.tar.gz PackageFileSize: 313.5 KiB