Package: pengls Version: 1.15.1 Command: /home/biocbuild/R/R/bin/R CMD build --keep-empty-dirs --no-resave-data pengls StartedAt: 2025-07-18 01:59:26 -0000 (Fri, 18 Jul 2025) EndedAt: 2025-07-18 02:02:55 -0000 (Fri, 18 Jul 2025) EllapsedTime: 209.3 seconds RetCode: 0 Status: OK PackageFile: pengls_1.15.1.tar.gz PackageFileSize: 37.99 KiB