Package: pengls Version: 1.15.1 Command: /home/biocbuild/bbs-3.22-bioc/R/bin/R CMD INSTALL pengls StartedAt: 2025-07-17 15:06:30 -0400 (Thu, 17 Jul 2025) EndedAt: 2025-07-17 15:07:04 -0400 (Thu, 17 Jul 2025) EllapsedTime: 34.6 seconds RetCode: 0 Status: OK