Package: pengls Version: 1.15.1 Command: /home/biocbuild/bbs-3.22-bioc/R/bin/R CMD check --install=check:pengls.install-out.txt --library=/home/biocbuild/bbs-3.22-bioc/R/site-library --timings pengls_1.15.1.tar.gz StartedAt: 2025-07-18 01:06:48 -0400 (Fri, 18 Jul 2025) EndedAt: 2025-07-18 01:18:16 -0400 (Fri, 18 Jul 2025) EllapsedTime: 688.7 seconds RetCode: 0 Status: OK CheckDir: pengls.Rcheck Warnings: 0