Package: pengls Version: 1.15.1 Command: /home/biocbuild/bbs-3.22-bioc/R/bin/R CMD build --keep-empty-dirs --no-resave-data --md5 pengls StartedAt: 2025-07-17 18:32:52 -0400 (Thu, 17 Jul 2025) EndedAt: 2025-07-17 18:36:15 -0400 (Thu, 17 Jul 2025) EllapsedTime: 203.3 seconds RetCode: 0 Status: OK PackageFile: pengls_1.15.1.tar.gz PackageFileSize: 58.42 KiB