Package: pengls Version: 1.15.1 Command: /Library/Frameworks/R.framework/Resources/bin/R CMD check --install=check:pengls.install-out.txt --library=/Library/Frameworks/R.framework/Resources/library --no-vignettes --timings pengls_1.15.1.tar.gz StartedAt: 2025-10-05 21:00:34 -0400 (Sun, 05 Oct 2025) EndedAt: 2025-10-05 21:03:32 -0400 (Sun, 05 Oct 2025) EllapsedTime: 178.1 seconds RetCode: 0 Status: OK CheckDir: pengls.Rcheck Warnings: 0