Package: pengls Version: 1.15.1 Command: /Library/Frameworks/R.framework/Resources/bin/R CMD build --keep-empty-dirs --no-resave-data pengls StartedAt: 2025-10-05 17:21:52 -0400 (Sun, 05 Oct 2025) EndedAt: 2025-10-05 17:23:00 -0400 (Sun, 05 Oct 2025) EllapsedTime: 67.8 seconds RetCode: 0 Status: OK PackageFile: pengls_1.15.1.tar.gz PackageFileSize: 61.98 KiB