Package: pengls Version: 1.15.1 Maintainer: Stijn Hawinkel MaintainerEmail: stijn.hawinkel at psb.ugent.be git_url: https://git.bioconductor.org/packages/pengls git_branch: devel git_last_commit: bfb9177 git_last_commit_date: 2025-06-06 03:54:12 -0400 (Fri, 06 Jun 2025)