Package: peco Version: 1.21.0 Command: /home/biocbuild/R/R/bin/R CMD build --keep-empty-dirs --no-resave-data peco StartedAt: 2025-10-03 02:08:57 -0000 (Fri, 03 Oct 2025) EndedAt: 2025-10-03 02:11:57 -0000 (Fri, 03 Oct 2025) EllapsedTime: 180.1 seconds RetCode: 0 Status: OK PackageFile: peco_1.21.0.tar.gz PackageFileSize: 1.04 MiB