Package: peco Version: 1.21.0 Command: F:\biocbuild\bbs-3.22-bioc\R\bin\R.exe CMD check --no-multiarch --install=check:peco.install-out.txt --library=F:\biocbuild\bbs-3.22-bioc\R\library --no-vignettes --timings peco_1.21.0.tar.gz StartedAt: 2025-08-15 06:18:36 -0400 (Fri, 15 Aug 2025) EndedAt: 2025-08-15 06:29:27 -0400 (Fri, 15 Aug 2025) EllapsedTime: 650.3 seconds RetCode: 0 Status: OK CheckDir: peco.Rcheck Warnings: 0