Package: peco Version: 1.21.0 Command: rm -rf peco.buildbin-libdir && mkdir peco.buildbin-libdir && F:\biocbuild\bbs-3.22-bioc\R\bin\R.exe CMD INSTALL --build --library=peco.buildbin-libdir peco_1.21.0.tar.gz StartedAt: 2025-08-15 10:56:08 -0400 (Fri, 15 Aug 2025) EndedAt: 2025-08-15 10:56:50 -0400 (Fri, 15 Aug 2025) EllapsedTime: 42.1 seconds RetCode: 0 Status: OK PackageFile: peco_1.21.0.zip PackageFileSize: 1.089 MiB