Package: pdInfoBuilder Version: 1.73.0 Command: /home/biocbuild/R/R/bin/R CMD INSTALL pdInfoBuilder StartedAt: 2025-10-02 20:41:16 -0000 (Thu, 02 Oct 2025) EndedAt: 2025-10-02 20:42:00 -0000 (Thu, 02 Oct 2025) EllapsedTime: 43.8 seconds RetCode: 0 Status: OK