Package: pdInfoBuilder Version: 1.73.0 Command: /home/biocbuild/R/R/bin/R CMD check --install=check:pdInfoBuilder.install-out.txt --library=/home/biocbuild/R/R/site-library --no-vignettes --timings pdInfoBuilder_1.73.0.tar.gz StartedAt: 2025-10-03 10:05:40 -0000 (Fri, 03 Oct 2025) EndedAt: 2025-10-03 10:09:22 -0000 (Fri, 03 Oct 2025) EllapsedTime: 221.3 seconds RetCode: 0 Status: OK CheckDir: pdInfoBuilder.Rcheck Warnings: 0