Package: pdInfoBuilder Version: 1.73.0 Command: /Library/Frameworks/R.framework/Resources/bin/R CMD INSTALL pdInfoBuilder StartedAt: 2025-07-07 15:12:57 -0400 (Mon, 07 Jul 2025) EndedAt: 2025-07-07 15:13:10 -0400 (Mon, 07 Jul 2025) EllapsedTime: 12.8 seconds RetCode: 0 Status: OK