Package: pdInfoBuilder Version: 1.73.0 Command: /Library/Frameworks/R.framework/Resources/bin/R CMD build --keep-empty-dirs --no-resave-data pdInfoBuilder StartedAt: 2025-07-07 17:09:13 -0400 (Mon, 07 Jul 2025) EndedAt: 2025-07-07 17:09:27 -0400 (Mon, 07 Jul 2025) EllapsedTime: 14.1 seconds RetCode: 0 Status: OK PackageFile: pdInfoBuilder_1.73.0.tar.gz PackageFileSize: 348.1 KiB