Package: pdInfoBuilder Version: 1.73.0 Command: rm -rf pdInfoBuilder.buildbin-libdir && mkdir pdInfoBuilder.buildbin-libdir && /Users/biocbuild/BBS/utils/build-universal.sh pdInfoBuilder_1.73.0.tar.gz /Library/Frameworks/R.framework/Resources/bin/R pdInfoBuilder.buildbin-libdir StartedAt: 2025-07-07 22:26:46 -0400 (Mon, 07 Jul 2025) EndedAt: 2025-07-07 22:27:00 -0400 (Mon, 07 Jul 2025) EllapsedTime: 14.4 seconds RetCode: 0 Status: OK PackageFile: pdInfoBuilder_1.73.0.tgz PackageFileSize: 824.4 KiB