Package: pcaExplorer Version: 3.3.0 Command: F:\biocbuild\bbs-3.22-bioc\R\bin\R.exe CMD INSTALL pcaExplorer StartedAt: 2025-07-22 16:51:00 -0400 (Tue, 22 Jul 2025) EndedAt: 2025-07-22 16:52:13 -0400 (Tue, 22 Jul 2025) EllapsedTime: 72.8 seconds RetCode: 0 Status: OK