Package: pcaExplorer Version: 3.3.0 Command: F:\biocbuild\bbs-3.22-bioc\R\bin\R.exe CMD check --no-multiarch --install=check:pcaExplorer.install-out.txt --library=F:\biocbuild\bbs-3.22-bioc\R\library --no-vignettes --timings pcaExplorer_3.3.0.tar.gz StartedAt: 2025-07-23 05:08:20 -0400 (Wed, 23 Jul 2025) EndedAt: 2025-07-23 05:19:34 -0400 (Wed, 23 Jul 2025) EllapsedTime: 673.7 seconds RetCode: 0 Status: OK CheckDir: pcaExplorer.Rcheck Warnings: 0